Workbook

Sheet Contacts
A1: Name | B1: Email | C1: Company | D1: Stage | E1: Deal value | F1: Owner | G1: Next follow-up | H1: Next action | I1: Last contacted | J1: Last from | K1: Last subject | L1: Gmail thread | M1: Days quiet | N1: Status | O1: Notes | P1: Source | Q1: Added | R1: Synced
A2: Sample: Maya Chen | B2: maya@example.com | C2: Northwind Studio | D2: Proposal | E2: 4800 | G2: 46297 | H2: Send revised quote | I2: 46292 | J2: Me | K2: Quote for the spring campaign | M2: =IF(ISNUMBER(I2),TODAY()-INT(I2),"") | N2: =IF(A2="","",IF(AND(D2<>"",COUNTIFS(Settings!$E$3:$E$22,D2,Settings!$F$3:$F$22,"Yes")>0),"Closed",IF(J2="Them","Needs reply",IF(AND(ISNUMBER(G2),INT(G2)<TODAY()),"Overdue",IF(AND(ISNUMBER(G2),INT(G2)=TODAY()),"Due today",IF(AND(ISNUMBER(I2),TODAY()-INT(I2)>=Settings!$B$5,NOT(AND(ISNUMBER(G2),INT(G2)>TODAY()))),"Gone cold","OK")))))) | P2: Sample: delete me | Q2: 46278
A3: Sample: Omar Haddad | B3: omar@example.org | C3: Haddad Realty | D3: Meeting | E3: 1200 | G3: 46298 | H3: Confirm viewing time | I3: 46296 | J3: Them | K3: Re: Viewing on Saturday? | M3: =IF(ISNUMBER(I3),TODAY()-INT(I3),"") | N3: =IF(A3="","",IF(AND(D3<>"",COUNTIFS(Settings!$E$3:$E$22,D3,Settings!$F$3:$F$22,"Yes")>0),"Closed",IF(J3="Them","Needs reply",IF(AND(ISNUMBER(G3),INT(G3)<TODAY()),"Overdue",IF(AND(ISNUMBER(G3),INT(G3)=TODAY()),"Due today",IF(AND(ISNUMBER(I3),TODAY()-INT(I3)>=Settings!$B$5,NOT(AND(ISNUMBER(G3),INT(G3)>TODAY()))),"Gone cold","OK")))))) | P3: Sample: delete me | Q3: 46289
A4: Sample: Lena Fischer | B4: lena@example.net | C4: Fischer & Co | D4: Contacted | E4: 2500 | H4: Check in after holiday | I4: 46268 | J4: Me | K4: Intro: bookkeeping help | M4: =IF(ISNUMBER(I4),TODAY()-INT(I4),"") | N4: =IF(A4="","",IF(AND(D4<>"",COUNTIFS(Settings!$E$3:$E$22,D4,Settings!$F$3:$F$22,"Yes")>0),"Closed",IF(J4="Them","Needs reply",IF(AND(ISNUMBER(G4),INT(G4)<TODAY()),"Overdue",IF(AND(ISNUMBER(G4),INT(G4)=TODAY()),"Due today",IF(AND(ISNUMBER(I4),TODAY()-INT(I4)>=Settings!$B$5,NOT(AND(ISNUMBER(G4),INT(G4)>TODAY()))),"Gone cold","OK")))))) | P4: Sample: delete me | Q4: 46258
A5: Sample: Ravi Patel | B5: ravi@example.com | C5: Patel Imports | D5: Won | E5: 900 | I5: 46248 | J5: Me | K5: Signed agreement | M5: =IF(ISNUMBER(I5),TODAY()-INT(I5),"") | N5: =IF(A5="","",IF(AND(D5<>"",COUNTIFS(Settings!$E$3:$E$22,D5,Settings!$F$3:$F$22,"Yes")>0),"Closed",IF(J5="Them","Needs reply",IF(AND(ISNUMBER(G5),INT(G5)<TODAY()),"Overdue",IF(AND(ISNUMBER(G5),INT(G5)=TODAY()),"Due today",IF(AND(ISNUMBER(I5),TODAY()-INT(I5)>=Settings!$B$5,NOT(AND(ISNUMBER(G5),INT(G5)>TODAY()))),"Gone cold","OK")))))) | P5: Sample: delete me | Q5: 46218
M6: =IF(ISNUMBER(I6),TODAY()-INT(I6),"") | N6: =IF(A6="","",IF(AND(D6<>"",COUNTIFS(Settings!$E$3:$E$22,D6,Settings!$F$3:$F$22,"Yes")>0),"Closed",IF(J6="Them","Needs reply",IF(AND(ISNUMBER(G6),INT(G6)<TODAY()),"Overdue",IF(AND(ISNUMBER(G6),INT(G6)=TODAY()),"Due today",IF(AND(ISNUMBER(I6),TODAY()-INT(I6)>=Settings!$B$5,NOT(AND(ISNUMBER(G6),INT(G6)>TODAY()))),"Gone cold","OK"))))))
M7: =IF(ISNUMBER(I7),TODAY()-INT(I7),"") | N7: =IF(A7="","",IF(AND(D7<>"",COUNTIFS(Settings!$E$3:$E$22,D7,Settings!$F$3:$F$22,"Yes")>0),"Closed",IF(J7="Them","Needs reply",IF(AND(ISNUMBER(G7),INT(G7)<TODAY()),"Overdue",IF(AND(ISNUMBER(G7),INT(G7)=TODAY()),"Due today",IF(AND(ISNUMBER(I7),TODAY()-INT(I7)>=Settings!$B$5,NOT(AND(ISNUMBER(G7),INT(G7)>TODAY()))),"Gone cold","OK"))))))
M8: =IF(ISNUMBER(I8),TODAY()-INT(I8),"") | N8: =IF(A8="","",IF(AND(D8<>"",COUNTIFS(Settings!$E$3:$E$22,D8,Settings!$F$3:$F$22,"Yes")>0),"Closed",IF(J8="Them","Needs reply",IF(AND(ISNUMBER(G8),INT(G8)<TODAY()),"Overdue",IF(AND(ISNUMBER(G8),INT(G8)=TODAY()),"Due today",IF(AND(ISNUMBER(I8),TODAY()-INT(I8)>=Settings!$B$5,NOT(AND(ISNUMBER(G8),INT(G8)>TODAY()))),"Gone cold","OK"))))))
M9: =IF(ISNUMBER(I9),TODAY()-INT(I9),"") | N9: =IF(A9="","",IF(AND(D9<>"",COUNTIFS(Settings!$E$3:$E$22,D9,Settings!$F$3:$F$22,"Yes")>0),"Closed",IF(J9="Them","Needs reply",IF(AND(ISNUMBER(G9),INT(G9)<TODAY()),"Overdue",IF(AND(ISNUMBER(G9),INT(G9)=TODAY()),"Due today",IF(AND(ISNUMBER(I9),TODAY()-INT(I9)>=Settings!$B$5,NOT(AND(ISNUMBER(G9),INT(G9)>TODAY()))),"Gone cold","OK"))))))
M10: =IF(ISNUMBER(I10),TODAY()-INT(I10),"") | N10: =IF(A10="","",IF(AND(D10<>"",COUNTIFS(Settings!$E$3:$E$22,D10,Settings!$F$3:$F$22,"Yes")>0),"Closed",IF(J10="Them","Needs reply",IF(AND(ISNUMBER(G10),INT(G10)<TODAY()),"Overdue",IF(AND(ISNUMBER(G10),INT(G10)=TODAY()),"Due today",IF(AND(ISNUMBER(I10),TODAY()-INT(I10)>=Settings!$B$5,NOT(AND(ISNUMBER(G10),INT(G10)>TODAY()))),"Gone cold","OK"))))))
M11: =IF(ISNUMBER(I11),TODAY()-INT(I11),"") | N11: =IF(A11="","",IF(AND(D11<>"",COUNTIFS(Settings!$E$3:$E$22,D11,Settings!$F$3:$F$22,"Yes")>0),"Closed",IF(J11="Them","Needs reply",IF(AND(ISNUMBER(G11),INT(G11)<TODAY()),"Overdue",IF(AND(ISNUMBER(G11),INT(G11)=TODAY()),"Due today",IF(AND(ISNUMBER(I11),TODAY()-INT(I11)>=Settings!$B$5,NOT(AND(ISNUMBER(G11),INT(G11)>TODAY()))),"Gone cold","OK"))))))
M12: =IF(ISNUMBER(I12),TODAY()-INT(I12),"") | N12: =IF(A12="","",IF(AND(D12<>"",COUNTIFS(Settings!$E$3:$E$22,D12,Settings!$F$3:$F$22,"Yes")>0),"Closed",IF(J12="Them","Needs reply",IF(AND(ISNUMBER(G12),INT(G12)<TODAY()),"Overdue",IF(AND(ISNUMBER(G12),INT(G12)=TODAY()),"Due today",IF(AND(ISNUMBER(I12),TODAY()-INT(I12)>=Settings!$B$5,NOT(AND(ISNUMBER(G12),INT(G12)>TODAY()))),"Gone cold","OK"))))))
M13: =IF(ISNUMBER(I13),TODAY()-INT(I13),"") | N13: =IF(A13="","",IF(AND(D13<>"",COUNTIFS(Settings!$E$3:$E$22,D13,Settings!$F$3:$F$22,"Yes")>0),"Closed",IF(J13="Them","Needs reply",IF(AND(ISNUMBER(G13),INT(G13)<TODAY()),"Overdue",IF(AND(ISNUMBER(G13),INT(G13)=TODAY()),"Due today",IF(AND(ISNUMBER(I13),TODAY()-INT(I13)>=Settings!$B$5,NOT(AND(ISNUMBER(G13),INT(G13)>TODAY()))),"Gone cold","OK"))))))
M14: =IF(ISNUMBER(I14),TODAY()-INT(I14),"") | N14: =IF(A14="","",IF(AND(D14<>"",COUNTIFS(Settings!$E$3:$E$22,D14,Settings!$F$3:$F$22,"Yes")>0),"Closed",IF(J14="Them","Needs reply",IF(AND(ISNUMBER(G14),INT(G14)<TODAY()),"Overdue",IF(AND(ISNUMBER(G14),INT(G14)=TODAY()),"Due today",IF(AND(ISNUMBER(I14),TODAY()-INT(I14)>=Settings!$B$5,NOT(AND(ISNUMBER(G14),INT(G14)>TODAY()))),"Gone cold","OK"))))))
M15: =IF(ISNUMBER(I15),TODAY()-INT(I15),"") | N15: =IF(A15="","",IF(AND(D15<>"",COUNTIFS(Settings!$E$3:$E$22,D15,Settings!$F$3:$F$22,"Yes")>0),"Closed",IF(J15="Them","Needs reply",IF(AND(ISNUMBER(G15),INT(G15)<TODAY()),"Overdue",IF(AND(ISNUMBER(G15),INT(G15)=TODAY()),"Due today",IF(AND(ISNUMBER(I15),TODAY()-INT(I15)>=Settings!$B$5,NOT(AND(ISNUMBER(G15),INT(G15)>TODAY()))),"Gone cold","OK"))))))
M16: =IF(ISNUMBER(I16),TODAY()-INT(I16),"") | N16: =IF(A16="","",IF(AND(D16<>"",COUNTIFS(Settings!$E$3:$E$22,D16,Settings!$F$3:$F$22,"Yes")>0),"Closed",IF(J16="Them","Needs reply",IF(AND(ISNUMBER(G16),INT(G16)<TODAY()),"Overdue",IF(AND(ISNUMBER(G16),INT(G16)=TODAY()),"Due today",IF(AND(ISNUMBER(I16),TODAY()-INT(I16)>=Settings!$B$5,NOT(AND(ISNUMBER(G16),INT(G16)>TODAY()))),"Gone cold","OK"))))))
M17: =IF(ISNUMBER(I17),TODAY()-INT(I17),"") | N17: =IF(A17="","",IF(AND(D17<>"",COUNTIFS(Settings!$E$3:$E$22,D17,Settings!$F$3:$F$22,"Yes")>0),"Closed",IF(J17="Them","Needs reply",IF(AND(ISNUMBER(G17),INT(G17)<TODAY()),"Overdue",IF(AND(ISNUMBER(G17),INT(G17)=TODAY()),"Due today",IF(AND(ISNUMBER(I17),TODAY()-INT(I17)>=Settings!$B$5,NOT(AND(ISNUMBER(G17),INT(G17)>TODAY()))),"Gone cold","OK"))))))
... M201: =IF(ISNUMBER(I201),TODAY()-INT(I201),"") | N201: =IF(A201="","",IF(AND(D201<>"",COUNTIFS(Settings!$E$3:$E$22,D201,Settings!$F$3:$F$22,"Yes")>0),"Closed",IF(J201="Them","Needs reply",IF(AND(ISNUMBER(G201),INT(G201)<TODAY()),"Overdue",IF(AND(ISNUMBER(G201),INT(G201)=TODAY()),"Due today",IF(AND(ISNUMBER(I201),TODAY()-INT(I201)>=Settings!$B$5,NOT(AND(ISNUMBER(G201),INT(G201)>TODAY()))),"Gone cold","OK"))))))

Sheet Today
A1: Today
A2: This list is written by the FollowSheet script (FollowSheet > Sync Gmail now). After importing this file into Google Sheets, follow INSTALL.md to add the script.

Sheet Pipeline
A1: Pipeline
A2: Stage | B2: Deals | C2: Total value
A3: =IF(Settings!$E$3="","",Settings!$E$3) | B3: =IF(A3="","",COUNTIF(Contacts!$D:$D,A3)) | C3: =IF(A3="","",SUMIF(Contacts!$D:$D,A3,Contacts!$E:$E))
A4: =IF(Settings!$E$4="","",Settings!$E$4) | B4: =IF(A4="","",COUNTIF(Contacts!$D:$D,A4)) | C4: =IF(A4="","",SUMIF(Contacts!$D:$D,A4,Contacts!$E:$E))
A5: =IF(Settings!$E$5="","",Settings!$E$5) | B5: =IF(A5="","",COUNTIF(Contacts!$D:$D,A5)) | C5: =IF(A5="","",SUMIF(Contacts!$D:$D,A5,Contacts!$E:$E))
A6: =IF(Settings!$E$6="","",Settings!$E$6) | B6: =IF(A6="","",COUNTIF(Contacts!$D:$D,A6)) | C6: =IF(A6="","",SUMIF(Contacts!$D:$D,A6,Contacts!$E:$E))
A7: =IF(Settings!$E$7="","",Settings!$E$7) | B7: =IF(A7="","",COUNTIF(Contacts!$D:$D,A7)) | C7: =IF(A7="","",SUMIF(Contacts!$D:$D,A7,Contacts!$E:$E))
A8: =IF(Settings!$E$8="","",Settings!$E$8) | B8: =IF(A8="","",COUNTIF(Contacts!$D:$D,A8)) | C8: =IF(A8="","",SUMIF(Contacts!$D:$D,A8,Contacts!$E:$E))
A9: =IF(Settings!$E$9="","",Settings!$E$9) | B9: =IF(A9="","",COUNTIF(Contacts!$D:$D,A9)) | C9: =IF(A9="","",SUMIF(Contacts!$D:$D,A9,Contacts!$E:$E))
A10: =IF(Settings!$E$10="","",Settings!$E$10) | B10: =IF(A10="","",COUNTIF(Contacts!$D:$D,A10)) | C10: =IF(A10="","",SUMIF(Contacts!$D:$D,A10,Contacts!$E:$E))
A11: =IF(Settings!$E$11="","",Settings!$E$11) | B11: =IF(A11="","",COUNTIF(Contacts!$D:$D,A11)) | C11: =IF(A11="","",SUMIF(Contacts!$D:$D,A11,Contacts!$E:$E))
A12: =IF(Settings!$E$12="","",Settings!$E$12) | B12: =IF(A12="","",COUNTIF(Contacts!$D:$D,A12)) | C12: =IF(A12="","",SUMIF(Contacts!$D:$D,A12,Contacts!$E:$E))
A13: =IF(Settings!$E$13="","",Settings!$E$13) | B13: =IF(A13="","",COUNTIF(Contacts!$D:$D,A13)) | C13: =IF(A13="","",SUMIF(Contacts!$D:$D,A13,Contacts!$E:$E))
A14: =IF(Settings!$E$14="","",Settings!$E$14) | B14: =IF(A14="","",COUNTIF(Contacts!$D:$D,A14)) | C14: =IF(A14="","",SUMIF(Contacts!$D:$D,A14,Contacts!$E:$E))
A15: =IF(Settings!$E$15="","",Settings!$E$15) | B15: =IF(A15="","",COUNTIF(Contacts!$D:$D,A15)) | C15: =IF(A15="","",SUMIF(Contacts!$D:$D,A15,Contacts!$E:$E))
A16: =IF(Settings!$E$16="","",Settings!$E$16) | B16: =IF(A16="","",COUNTIF(Contacts!$D:$D,A16)) | C16: =IF(A16="","",SUMIF(Contacts!$D:$D,A16,Contacts!$E:$E))
A17: =IF(Settings!$E$17="","",Settings!$E$17) | B17: =IF(A17="","",COUNTIF(Contacts!$D:$D,A17)) | C17: =IF(A17="","",SUMIF(Contacts!$D:$D,A17,Contacts!$E:$E))
A18: =IF(Settings!$E$18="","",Settings!$E$18) | B18: =IF(A18="","",COUNTIF(Contacts!$D:$D,A18)) | C18: =IF(A18="","",SUMIF(Contacts!$D:$D,A18,Contacts!$E:$E))
A19: =IF(Settings!$E$19="","",Settings!$E$19) | B19: =IF(A19="","",COUNTIF(Contacts!$D:$D,A19)) | C19: =IF(A19="","",SUMIF(Contacts!$D:$D,A19,Contacts!$E:$E))
A20: =IF(Settings!$E$20="","",Settings!$E$20) | B20: =IF(A20="","",COUNTIF(Contacts!$D:$D,A20)) | C20: =IF(A20="","",SUMIF(Contacts!$D:$D,A20,Contacts!$E:$E))
A21: =IF(Settings!$E$21="","",Settings!$E$21) | B21: =IF(A21="","",COUNTIF(Contacts!$D:$D,A21)) | C21: =IF(A21="","",SUMIF(Contacts!$D:$D,A21,Contacts!$E:$E))
A22: =IF(Settings!$E$22="","",Settings!$E$22) | B22: =IF(A22="","",COUNTIF(Contacts!$D:$D,A22)) | C22: =IF(A22="","",SUMIF(Contacts!$D:$D,A22,Contacts!$E:$E))
A24: Needs attention | B24: Contacts
A25: Needs reply | B25: =COUNTIF(Contacts!$N:$N,"Needs reply")
A26: Overdue | B26: =COUNTIF(Contacts!$N:$N,"Overdue")
A27: Due today | B27: =COUNTIF(Contacts!$N:$N,"Due today")
A28: Gone cold | B28: =COUNTIF(Contacts!$N:$N,"Gone cold")

Sheet Settings
A1: FollowSheet settings
A2: Setting | B2: Value | C2: What it does | E2: Stage | F2: Closed?
A3: Send my daily list to | C3: Empty = your Google account email. | E3: Lead | F3: No
A4: Daily list hour (0-23) | B4: 8 | C4: Pro autopilot syncs Gmail and emails your list around this hour (sheet time zone). | E4: Contacted | F4: No
A5: Gone cold after (days) | B5: 21 | C5: Open deals with no email either way for this many days are flagged. | E5: Meeting | F5: No
A6: Auto follow-up after I email (days) | B6: 3 | C6: Pro: if Next follow-up is empty and you wrote last, it is set this many days after your email. 0 = off. | E6: Proposal | F6: No
A7: Capture Gmail label | B7: FollowSheet | C7: Pro: label any email with this Gmail label and its sender becomes a new contact. | E7: Negotiation | F7: No
A8: Remove label after capture | B8: Yes | C8: Yes / No. | E8: Won | F8: Yes
A9: Email me when nothing is due | B9: No | C9: Yes / No. | E9: Lost | F9: Yes
A10: Sync closed deals too | B10: No | C10: Yes / No. No = Won/Lost rows are skipped (saves Gmail quota).
A12: Plan | B12: Free (run the script to start the 14-day Pro trial)

Sheet Help
A1: FollowSheet 1.0.0: a CRM in your own Google Sheet that reads your Gmail
A3: This file is the import version of the template. Gmail sync, the Today list, the daily email and Pro features need the FollowSheet script:
A4: 1. Upload this file to Google Drive and open it with Google Sheets (or File > Import in a blank Google Sheet).
A5: 2. Extensions > Apps Script: paste FollowSheet.gs and Sidebar.html (in FollowSheet-apps-script.zip), then reload and run FollowSheet > Set up / repair this sheet.
A6: 3. Full guide: INSTALL.md in the zip, or https://karunalabs.pages.dev/followsheet/
A8: Status colours: red = they wrote last (you owe a reply), orange = overdue, yellow = due today, blue = gone cold.
A9: Privacy: your data stays in your Google account. FollowSheet has no server.
